BEGIN:VCALENDAR
VERSION:2.0
PRODID:icalendar-ruby
CALSCALE:GREGORIAN
METHOD:PUBLISH
BEGIN:VEVENT
DTSTAMP:20260419T224140Z
UID:22-721415@stjohnsmayfair.org
DTSTART:20261008T220000Z
DTEND:20261008T230000Z
CLASS:PUBLIC
CREATED:20260419T162138
DESCRIPTION:
LAST-MODIFIED:20260419T162138
LOCATION:Room A
SUMMARY:Adult Excercise Class
URL;VALUE=URI:https://www.stjohnsmayfair.org/events/adult-excercise-class/2
 026-10-08
ATTACH;FILENAME=Senior-Exercise-Flyer.png;FMTTYPE=image/png:https://dq5pwpg
 1q8ru0.cloudfront.net/2024/08/07/19/57/20/28ed4456-f2d6-48db-ab2b-5d168183
 8837/Senior-Exercise-Flyer.png
END:VEVENT
END:VCALENDAR
