BEGIN:VCALENDAR
VERSION:2.0
PRODID:icalendar-ruby
CALSCALE:GREGORIAN
METHOD:PUBLISH
BEGIN:VEVENT
DTSTAMP:20260420T021004Z
UID:22-722073@stjohnsmayfair.org
DTSTART:20261022T220000Z
DTEND:20261022T230000Z
CLASS:PUBLIC
CREATED:20260419T200359
DESCRIPTION:
LAST-MODIFIED:20260419T200359
LOCATION:Room A
SUMMARY:Adult Excercise Class
URL;VALUE=URI:https://www.stjohnsmayfair.org/events/adult-excercise-class/2
 026-10-22
ATTACH;FILENAME=Senior-Exercise-Flyer.png;FMTTYPE=image/png:https://dq5pwpg
 1q8ru0.cloudfront.net/2024/08/07/19/57/20/28ed4456-f2d6-48db-ab2b-5d168183
 8837/Senior-Exercise-Flyer.png
END:VEVENT
END:VCALENDAR
