BEGIN:VCALENDAR
VERSION:2.0
PRODID:icalendar-ruby
CALSCALE:GREGORIAN
METHOD:PUBLISH
BEGIN:VEVENT
DTSTAMP:20260419T190116Z
UID:28-720859@stjohnsmayfair.org
DTSTART:20261018T160000Z
DTEND:20261018T170000Z
CLASS:PUBLIC
CREATED:20260419T123915
DESCRIPTION:
LAST-MODIFIED:20260419T123915
LOCATION:Sanctuary
SUMMARY:Choir Rehearsal
URL;VALUE=URI:https://www.stjohnsmayfair.org/events/choir-rehearsal/2026-10
 -18
ATTACH;FILENAME=PXL_20240128_003329924.MP.jpg;FMTTYPE=image/jpeg:https://dq
 5pwpg1q8ru0.cloudfront.net/2024/09/09/18/54/26/440e2bf5-9dbd-49ce-8de0-f7b
 a9a0f8189/PXL_20240128_003329924.MP.jpg
END:VEVENT
END:VCALENDAR
