BEGIN:VCALENDAR
VERSION:2.0
PRODID:icalendar-ruby
CALSCALE:GREGORIAN
METHOD:PUBLISH
BEGIN:VEVENT
DTSTAMP:20260421T164416Z
UID:12-728436@stjohnsmayfair.org
DTSTART:20261029T220000Z
DTEND:20261029T233000Z
CLASS:PUBLIC
CREATED:20260421T103939
DESCRIPTION:
LAST-MODIFIED:20260421T103939
LOCATION:Musician's Office
SUMMARY:Praise Team Practice
URL;VALUE=URI:https://www.stjohnsmayfair.org/events/praise-team-practice/20
 26-10-29
ATTACH;FILENAME=412312502_1020922435644436_1427083982615702715_n.jpg;FMTTYP
 E=image/jpeg:https://dq5pwpg1q8ru0.cloudfront.net/2024/07/25/16/57/24/9287
 ce32-55e4-41ea-852d-c080df2e8644/412312502_1020922435644436_14270839826157
 02715_n.jpg
END:VEVENT
END:VCALENDAR
