BEGIN:VCALENDAR
VERSION:2.0
PRODID:icalendar-ruby
CALSCALE:GREGORIAN
METHOD:PUBLISH
BEGIN:VEVENT
DTSTAMP:20260422T070626Z
UID:13-597251@stjohnsmayfair.org
DTSTART:20260314T130000Z
DTEND:20260314T160000Z
CLASS:PUBLIC
CREATED:20260318T091008
DESCRIPTION:
LAST-MODIFIED:20260318T091008
LOCATION:
SUMMARY:Property Work Day
URL;VALUE=URI:https://www.stjohnsmayfair.org/events/property-work-day/2026-
 03-14
ATTACH;FILENAME=Property-Work-Day-flyer.png;FMTTYPE=image/png:https://dq5pw
 pg1q8ru0.cloudfront.net/2024/08/07/19/59/34/65249d3a-996a-43c7-91d4-1aef3e
 a2a7c1/Property-Work-Day-flyer.png
END:VEVENT
END:VCALENDAR
